BEGIN:VCALENDAR
VERSION:2.0
PRODID:-//Bristol Avon Rivers Trust - ECPv6.15.19//NONSGML v1.0//EN
CALSCALE:GREGORIAN
METHOD:PUBLISH
X-ORIGINAL-URL:https://bristolavonriverstrust.org
X-WR-CALDESC:Events for Bristol Avon Rivers Trust
REFRESH-INTERVAL;VALUE=DURATION:PT1H
X-Robots-Tag:noindex
X-PUBLISHED-TTL:PT1H
BEGIN:VTIMEZONE
TZID:UTC
BEGIN:STANDARD
TZOFFSETFROM:+0000
TZOFFSETTO:+0000
TZNAME:UTC
DTSTART:20200101T000000
END:STANDARD
END:VTIMEZONE
BEGIN:VEVENT
DTSTART;TZID=UTC:20210820T100000
DTEND;TZID=UTC:20210820T133000
DTSTAMP:20260425T005700
CREATED:20210629T081415Z
LAST-MODIFIED:20220323T095734Z
UID:9496-1629453600-1629466200@bristolavonriverstrust.org
SUMMARY:River Clean: Pigeonhouse Stream
DESCRIPTION:Join other volunteers to #treasureyourriver this summer and help BART and Sustainable Hive collect 90 tonnes of litter from our rivers.\n\n\n\n\n\n\n\n\nTreasure Your River is preventing river litter across the UK. The rivers at the heart of our cities flow to the sea\, and take with them all the littARRR that is swept\, dropped and drained into it. Did you know 80% of the litter in the sea flows out from river systems? \nWe’re looking for shipmates\, volunteers\, and people in Bristol and around the Avon who treasure their river to get involved. We’re aiming to remove 95 tonnes of litter from our rivers and prevent a further 90 tonnes from entering them in the first place. ARRR you ready to climb aboard and treasure a river near you? \nHead here to register\nPlease dress appropriately (waterproofs\, sun screen etc)\, bring water and hand sanitiser and adhere to COVID rules. Wellies would be helpful too although we can provide waders for those who really want to get stuck in! Gloves\, litter pickers\, bin bags and bag rings will also be provided. \nMeeting information\nMeet the BART team at 10am on the corner of Whitchurch Lane and Maynard Road\, BS13 7TB. \n  \n \n 
URL:https://bristolavonriverstrust.org/event/river-clean-brislington-brook-2/
LOCATION:Pigeonhouse Stream\, Hartcliffe
ATTACH;FMTTYPE=image/jpeg:https://bristolavonriverstrust.org/wp-content/uploads/2022/02/Homelink-2nd-June__1641218448616__w1132.jpg
ORGANIZER;CN="Bristol Avon Rivers Trust":MAILTO:info@bristolavonriverstrust.org
END:VEVENT
END:VCALENDAR