BEGIN:VCALENDAR
VERSION:2.0
PRODID:-//Bristol Avon Rivers Trust - ECPv6.15.19//NONSGML v1.0//EN
CALSCALE:GREGORIAN
METHOD:PUBLISH
X-WR-CALNAME:Bristol Avon Rivers Trust
X-ORIGINAL-URL:https://bristolavonriverstrust.org
X-WR-CALDESC:Events for Bristol Avon Rivers Trust
REFRESH-INTERVAL;VALUE=DURATION:PT1H
X-Robots-Tag:noindex
X-PUBLISHED-TTL:PT1H
BEGIN:VTIMEZONE
TZID:UTC
BEGIN:STANDARD
TZOFFSETFROM:+0000
TZOFFSETTO:+0000
TZNAME:UTC
DTSTART:20210101T000000
END:STANDARD
END:VTIMEZONE
BEGIN:VEVENT
DTSTART;TZID=UTC:20220611T093000
DTEND;TZID=UTC:20220611T153000
DTSTAMP:20260424T091423
CREATED:20220520T140329Z
LAST-MODIFIED:20220520T140951Z
UID:11193-1654939800-1654961400@bristolavonriverstrust.org
SUMMARY:Yellow Fish Events: Yate
DESCRIPTION:Did you know that surface drains at the sides of roads lead directly to your local watercourse? This means that anything poured down the surface drain such as litter\, car oils or shampoo\, weedkillers or mop bucket wastewater can harm river wildlife. Fish\, invertebrates and other river life need our help. \nBART are running an exciting Yellow Fish Campaign to raise awareness and encourage local communities to help improve water quality in the Bristol Frome. We are holding a series of Yellowfish events with local schools and local community groups. \nWe will be spraying yellow fish stencils onto the side of storm drains using non-toxic washable paint and putting up posters and handing out leaflets to local businesses in order to educate people on the fact that storm drains at the side of the road link directly to the nearest river or stream. \nEvent details are as follows: \n\n9:30am – 10:30 Meet at Car Park on Moorland Rd\, Yate\, Bristol BS37 4BT\n11:15-12:15 Meet outside Tesco – Wellington Rd\, Yate\, Bristol BS37 5UY \n1:30-2:30 247 Sundridge Park\, Yate\, Bristol BS37 4HB\n\nPlease book a free ticket to one of our events here: https://www.eventbrite.co.uk/e/yellow-fish-yate-tickets-329485178037  \nFor any questions on the event\, please email Rozy@bristolavonriverstrust.org \nThank you to Coop Local Causes for funding these events and thank you for support from Yate Town Council and South Gloucestershire Council.
URL:https://bristolavonriverstrust.org/event/yellow-fish-events-yate/
LOCATION:Yate\, Moorland Rd\, Yate\, BS37 4BT\, United Kingdom
CATEGORIES:Yellow Fish
ATTACH;FMTTYPE=image/jpeg:https://bristolavonriverstrust.org/wp-content/uploads/2022/05/IMG-20220226-WA0014.jpg
END:VEVENT
END:VCALENDAR