BEGIN:VCALENDAR
VERSION:2.0
PRODID:-//Bristol Avon Rivers Trust - ECPv6.15.19//NONSGML v1.0//EN
CALSCALE:GREGORIAN
METHOD:PUBLISH
X-ORIGINAL-URL:https://bristolavonriverstrust.org
X-WR-CALDESC:Events for Bristol Avon Rivers Trust
REFRESH-INTERVAL;VALUE=DURATION:PT1H
X-Robots-Tag:noindex
X-PUBLISHED-TTL:PT1H
BEGIN:VTIMEZONE
TZID:UTC
BEGIN:STANDARD
TZOFFSETFROM:+0000
TZOFFSETTO:+0000
TZNAME:UTC
DTSTART:20210101T000000
END:STANDARD
END:VTIMEZONE
BEGIN:VEVENT
DTSTART;TZID=UTC:20220630T094500
DTEND;TZID=UTC:20220630T124500
DTSTAMP:20260424T074727
CREATED:20220329T152144Z
LAST-MODIFIED:20220331T092700Z
UID:10953-1656582300-1656593100@bristolavonriverstrust.org
SUMMARY:Riverfly Monitor Training - Upper Avon
DESCRIPTION:Are you interested in your local river or stream and would you like to become a Monthly Volunteer Riverfly Monitor to help to survey and protect it? \nBART are running free riverfly monitoring training courses this Summer to expand our network within the catchment and help to protect our rivers into the future! \nWe run riverfly training as part of the Angler’s Riverfly Monitoring Initiative (ARMI) which is spearheaded by the Riverfly Partnership.  More info can be found on their website here. Riverfly are a fantastic indicator of the health of our rivers and streams and our riverfly monitors keep eyes and ears on our rivers and can be the first to spot pollution events as well as collecting long term\, regular data on the state of our rivers. Our training courses consist of an online theory element followed by a practical session at the river. \nPlease contact jess@bristolavonriverstrust.org to find out more or to sign up to the training session.
URL:https://bristolavonriverstrust.org/event/riverfly-monitor-training-upper-avon/
LOCATION:Venue TBC
CATEGORIES:Citizen Science,Training
ATTACH;FMTTYPE=image/jpeg:https://bristolavonriverstrust.org/wp-content/uploads/2022/01/20210624_100043-v3.jpg
ORGANIZER;CN="Bristol Avon Rivers Trust":MAILTO:info@bristolavonriverstrust.org
END:VEVENT
BEGIN:VEVENT
DTSTART;TZID=UTC:20220630T193000
DTEND;TZID=UTC:20220630T203000
DTSTAMP:20260424T074727
CREATED:20220628T112230Z
LAST-MODIFIED:20220628T112230Z
UID:11385-1656617400-1656621000@bristolavonriverstrust.org
SUMMARY:Saving the Chew: a talk about improving the health of the River Chew
DESCRIPTION:BART’s River Chew Community Engagement Officer\, Amy Wade\, will be giving a talk about improving the health of the River Chew. \nThe talk will include information about who BART are\, environmental issues that the River Chew faces\, some of the work that BART are doing to improve the health of the river\, and what local people can do to help. \nQuestions and discussion following the talk will be welcome. \nPlease email Amy if you are coming so we can plan for numbers: amy@bristolavonriverstrust.org
URL:https://bristolavonriverstrust.org/event/saving-the-chew-a-talk-about-improving-the-health-of-the-river-chew/
LOCATION:Keynsham Baptist Church\, High Street\, Keynsham\, BS31 1DS\, United Kingdom
ATTACH;FMTTYPE=image/jpeg:https://bristolavonriverstrust.org/wp-content/uploads/2021/10/Photo-Amy-Wade-scaled.jpg
ORGANIZER;CN="Bristol Avon Rivers Trust":MAILTO:info@bristolavonriverstrust.org
END:VEVENT
END:VCALENDAR