BEGIN:VCALENDAR
VERSION:2.0
PRODID:-//Bristol Avon Rivers Trust - ECPv6.15.19//NONSGML v1.0//EN
CALSCALE:GREGORIAN
METHOD:PUBLISH
X-ORIGINAL-URL:https://bristolavonriverstrust.org
X-WR-CALDESC:Events for Bristol Avon Rivers Trust
REFRESH-INTERVAL;VALUE=DURATION:PT1H
X-Robots-Tag:noindex
X-PUBLISHED-TTL:PT1H
BEGIN:VTIMEZONE
TZID:UTC
BEGIN:STANDARD
TZOFFSETFROM:+0000
TZOFFSETTO:+0000
TZNAME:UTC
DTSTART:20210101T000000
END:STANDARD
END:VTIMEZONE
BEGIN:VEVENT
DTSTART;VALUE=DATE:20220711
DTEND;VALUE=DATE:20220719
DTSTAMP:20260424T074830
CREATED:20220707T160127Z
LAST-MODIFIED:20220707T161517Z
UID:11456-1657497600-1658188799@bristolavonriverstrust.org
SUMMARY:Bristol Avon RiverBlitz 2022
DESCRIPTION:The Bristol Avon RiverBlitz (formerly WaterBlitz) returns this July\, and it’s bigger than ever! \nBART is encouraging as many citizen scientists as possible to get out to their local watercourse and sample it for water quality to help monitor the health of our rivers and streams. \nPlease sign up here before July 11th to request your water testing kits. Use the kits to sample your local stream or river and send us in your results. \nWe are pleased to be hosting four local events on rivers around the catchment where you can collect your kits in person or just come on down on the day. Members of the BART team demonstrating how to take the samples and giving information on what your results mean. Please find details of each event below. \nThank you for taking part and helping us work together for rivers! \n  \nLocal Waterblitz events on Saturday 16th and Sunday 17th July from 10am to 2pm. \n  \nCam & Wellow Brooks: Saturday 16th July – Midsomer Norton Town Park\, Gullock Tyning\, Midsomer Norton\, BA3 2UH \nThe River Biss: Saturday 16th July – Fore Street\, Trowbridge Town Centre\, BA14 8ER \nThe River Chew: Sunday 17th July – Wild Things Farm\, Pensford Lane\, Stanton Drew\, Bristol\, BS39 4DX (What 3 Words: ///amber.loudness.rivers) \nCongresbury Yeo: Sunday 17th July – Millennium Green\, Bristol Road\, Congresbury\, Bristol\, BS49 5AG \nCheck out the RiverBlitz data explorer to find out how the health of your local river or stream has changed during the past 5 years of RiverBlitz events.
URL:https://bristolavonriverstrust.org/event/bristol-avon-waterblitz-2021-copy/
ATTACH;FMTTYPE=image/jpeg:https://bristolavonriverstrust.org/wp-content/uploads/2021/06/WaterBlitz-Poster-Image-scaled-e1623150510272.jpg
END:VEVENT
END:VCALENDAR