BEGIN:VCALENDAR
VERSION:2.0
PRODID:-//Bristol Avon Rivers Trust - ECPv6.15.19//NONSGML v1.0//EN
CALSCALE:GREGORIAN
METHOD:PUBLISH
X-WR-CALNAME:Bristol Avon Rivers Trust
X-ORIGINAL-URL:https://bristolavonriverstrust.org
X-WR-CALDESC:Events for Bristol Avon Rivers Trust
REFRESH-INTERVAL;VALUE=DURATION:PT1H
X-Robots-Tag:noindex
X-PUBLISHED-TTL:PT1H
BEGIN:VTIMEZONE
TZID:UTC
BEGIN:STANDARD
TZOFFSETFROM:+0000
TZOFFSETTO:+0000
TZNAME:UTC
DTSTART:20220101T000000
END:STANDARD
END:VTIMEZONE
BEGIN:VEVENT
DTSTART;TZID=UTC:20230722T100000
DTEND;TZID=UTC:20230722T140000
DTSTAMP:20260423T155046
CREATED:20230712T085120Z
LAST-MODIFIED:20230712T085324Z
UID:14069-1690020000-1690034400@bristolavonriverstrust.org
SUMMARY:Yellow Fish Event - Chippenham
DESCRIPTION:Help your local river by painting yellow fish!! \nJoin BART for one of our Yellow Fish events. \nYou will paint yellow fish next to surface drains to raise awareness that ONLY RAIN SHOULD GO DOWN THE DRAIN! \nThese drains often lead straight to a river or stream and is not treated. Whatever is poured down the drain can end up straight in the river. This can be damaging to the river ecosystem. \nCome and paint yellow fish in Chippenham! \nIf you would like to take part please sign up via Eventbrite
URL:https://bristolavonriverstrust.org/event/yellow-fish-event-chippenham/
LOCATION:Riverside Drive Chippenham\, Riverside Drive\, Chippenham\, SN15\, United Kingdom
ATTACH;FMTTYPE=image/jpeg:https://bristolavonriverstrust.org/wp-content/uploads/2022/06/IMG-20220613-WA0000.jpg
ORGANIZER;CN="Bristol Avon Rivers Trust":MAILTO:info@bristolavonriverstrust.org
END:VEVENT
END:VCALENDAR