BEGIN:VCALENDAR
VERSION:2.0
PRODID:-//Bristol Avon Rivers Trust - ECPv6.15.19//NONSGML v1.0//EN
CALSCALE:GREGORIAN
METHOD:PUBLISH
X-WR-CALNAME:Bristol Avon Rivers Trust
X-ORIGINAL-URL:https://bristolavonriverstrust.org
X-WR-CALDESC:Events for Bristol Avon Rivers Trust
REFRESH-INTERVAL;VALUE=DURATION:PT1H
X-Robots-Tag:noindex
X-PUBLISHED-TTL:PT1H
BEGIN:VTIMEZONE
TZID:UTC
BEGIN:STANDARD
TZOFFSETFROM:+0000
TZOFFSETTO:+0000
TZNAME:UTC
DTSTART:20220101T000000
END:STANDARD
END:VTIMEZONE
BEGIN:VEVENT
DTSTART;TZID=UTC:20230725T100000
DTEND;TZID=UTC:20230725T140000
DTSTAMP:20260423T155050
CREATED:20230712T085218Z
LAST-MODIFIED:20230712T090033Z
UID:14075-1690279200-1690293600@bristolavonriverstrust.org
SUMMARY:River Dipping - Chew Magna
DESCRIPTION:Bristol Avon Rivers Trust (BART) is running a river dipping session for local community groups\, residents\, families and friends. Come along to gain a better understanding of your local waterway and the true delights it has to offer! \nThe session involves sampling and identifying invertebrates in the local watercourse\, as well as mini-raft building from all natural materials. The session is finished off by racing the creatively built rafts down the river! \nThis is a drop in session that is running from 10:00am until 2:00pm\, so feel free to stay as long as you would like! \nWellies are required\, but nets and river dipping equipment will be provided! \nPlease sign up via Eventbrite and you will be kept up to date on the location. \nSuitable for children age 5+
URL:https://bristolavonriverstrust.org/event/river-dipping-chew-magna/
LOCATION:Chew Magna
ATTACH;FMTTYPE=image/jpeg:https://bristolavonriverstrust.org/wp-content/uploads/2022/09/293653710_3088975794747071_3794413130000451396_n-scaled-e1663233836868.jpg
ORGANIZER;CN="Bristol Avon Rivers Trust":MAILTO:info@bristolavonriverstrust.org
END:VEVENT
END:VCALENDAR