BEGIN:VCALENDAR
VERSION:2.0
PRODID:-//Bristol Avon Rivers Trust - ECPv6.15.19//NONSGML v1.0//EN
CALSCALE:GREGORIAN
METHOD:PUBLISH
X-ORIGINAL-URL:https://bristolavonriverstrust.org
X-WR-CALDESC:Events for Bristol Avon Rivers Trust
REFRESH-INTERVAL;VALUE=DURATION:PT1H
X-Robots-Tag:noindex
X-PUBLISHED-TTL:PT1H
BEGIN:VTIMEZONE
TZID:UTC
BEGIN:STANDARD
TZOFFSETFROM:+0000
TZOFFSETTO:+0000
TZNAME:UTC
DTSTART:20220101T000000
END:STANDARD
END:VTIMEZONE
BEGIN:VEVENT
DTSTART;TZID=UTC:20231014T140000
DTEND;TZID=UTC:20231014T160000
DTSTAMP:20260423T100735
CREATED:20230914T134244Z
LAST-MODIFIED:20230914T135001Z
UID:14593-1697292000-1697299200@bristolavonriverstrust.org
SUMMARY:River Nature Walk\, Hartcliffe
DESCRIPTION:Join BART for a relaxed nature walk and talk along the Pigeonhouse Stream\, Hartcliffe. \nWe will walk a 1.5 mile circular route along the Pigeonhouse Stream and back through Wilmott Park. Along the way you will learn about this urban stream\, its wonderful wildlife and what can be done to improve its health. You can also learn about what Bristol Avon Rivers Trust have been doing in the area to help local streams and rivers. All welcome! \nMeet outside Morrisons\, Peterson Ave. You can park here. \nThe walk will take about two hours\, making plenty of stops to take in the wildlife and moving at a pace that suits everyone. \nPlease sign up here so that we know numbers. Any questions or issues please email: amy@bristolavonriverstrust.org \n 
URL:https://bristolavonriverstrust.org/event/river-nature-walk-hartcliffe/
LOCATION:Hartcliffe Morrisons\, Peterson Ave\, Bristol BS13 0BE
ATTACH;FMTTYPE=image/png:https://bristolavonriverstrust.org/wp-content/uploads/2023/09/eventbrite-S.Bristol-pic-2.png
END:VEVENT
END:VCALENDAR