BEGIN:VCALENDAR
VERSION:2.0
PRODID:-//Bristol Avon Rivers Trust - ECPv6.15.19//NONSGML v1.0//EN
CALSCALE:GREGORIAN
METHOD:PUBLISH
X-WR-CALNAME:Bristol Avon Rivers Trust
X-ORIGINAL-URL:https://bristolavonriverstrust.org
X-WR-CALDESC:Events for Bristol Avon Rivers Trust
REFRESH-INTERVAL;VALUE=DURATION:PT1H
X-Robots-Tag:noindex
X-PUBLISHED-TTL:PT1H
BEGIN:VTIMEZONE
TZID:UTC
BEGIN:STANDARD
TZOFFSETFROM:+0000
TZOFFSETTO:+0000
TZNAME:UTC
DTSTART:20220101T000000
END:STANDARD
END:VTIMEZONE
BEGIN:VEVENT
DTSTART;TZID=UTC:20231115T140000
DTEND;TZID=UTC:20231115T160000
DTSTAMP:20260423T083853
CREATED:20231024T151832Z
LAST-MODIFIED:20231101T114506Z
UID:14916-1700056800-1700064000@bristolavonriverstrust.org
SUMMARY:River Detectives Workshop - South Bristol
DESCRIPTION:Do you live in or near South Bristol? Would you be interested in becoming a regular citizen science volunteer? \nBART are recruiting volunteers in the South Bristol area to become River Detectives. Each River Detective is assigned a site on one of their local streams or rivers and will take monthly samples to monitor water quality. \nWe need volunteers on the River Malago\, Pigeonhouse Stream\, Collitors Brook and Brislington Brook. These watercourses run through Long Ashton\, Ashton Vale\, Bedminster\, Bedminster Down\, Bishopsworth\, Withywood\, HartCliffe and nearby areas. \nThere will be a training workshop at 2pm on Weds 15th November at Crox Bottom Nature Reserve. At the workshop\, volunteers will: learn how to take water quality samples\, choose sites\, and pick up their water testing kits. \nIf you would like to be a River Detective in the South Bristol area but cannot make the workshop\, please contact Amy (see below) and we should be able to make alternative arrangements. \nIf you are interested or have any questions\, please contact amy@bristolavonriverstrust.org
URL:https://bristolavonriverstrust.org/event/river-detectives-workshop-south-bristol/
LOCATION:Crox Bottom\, Crox Bottom\, Bristol\, BS13 7TJ\, United Kingdom
ATTACH;FMTTYPE=image/jpeg:https://bristolavonriverstrust.org/wp-content/uploads/2022/11/Picture3-3.jpg
ORGANIZER;CN="Bristol Avon Rivers Trust":MAILTO:info@bristolavonriverstrust.org
END:VEVENT
END:VCALENDAR