BEGIN:VCALENDAR
VERSION:2.0
PRODID:-//Bristol Avon Rivers Trust - ECPv6.15.19//NONSGML v1.0//EN
CALSCALE:GREGORIAN
METHOD:PUBLISH
X-ORIGINAL-URL:https://bristolavonriverstrust.org
X-WR-CALDESC:Events for Bristol Avon Rivers Trust
REFRESH-INTERVAL;VALUE=DURATION:PT1H
X-Robots-Tag:noindex
X-PUBLISHED-TTL:PT1H
BEGIN:VTIMEZONE
TZID:UTC
BEGIN:STANDARD
TZOFFSETFROM:+0000
TZOFFSETTO:+0000
TZNAME:UTC
DTSTART:20220101T000000
END:STANDARD
END:VTIMEZONE
BEGIN:VEVENT
DTSTART;TZID=UTC:20231220T133000
DTEND;TZID=UTC:20231220T150000
DTSTAMP:20260423T071717
CREATED:20231130T125719Z
LAST-MODIFIED:20231130T125958Z
UID:15226-1703079000-1703084400@bristolavonriverstrust.org
SUMMARY:Lego Workshop - build a river friendly house
DESCRIPTION:This will be an hour and a half workshop where children and their accompanying adult will build a river friendly house from Lego and other materials. Their house will help reduce flooding and sewage overflow by slowing down rain water. Children will test their houses to see how much water they hold back. \nA fun activity for children aged about 5 – 10 years with a really important environmental message. \nBook one place per child attending and children must be accompanied by an adult. Maximum 3 children per adult. \nBook via EventBrite. Places are limited.
URL:https://bristolavonriverstrust.org/event/lego-workshop-build-a-river-friendly-house/
LOCATION:Frenchay Village Hall\, Beckspool Rd\, Bristol\, BS16 1NU
ATTACH;FMTTYPE=image/png:https://bristolavonriverstrust.org/wp-content/uploads/2023/11/Lego-workshop-eventbrite-1.png
ORGANIZER;CN="Bristol Avon Rivers Trust":MAILTO:info@bristolavonriverstrust.org
END:VEVENT
BEGIN:VEVENT
DTSTART;TZID=UTC:20231220T153000
DTEND;TZID=UTC:20231220T170000
DTSTAMP:20260423T071717
CREATED:20231130T125756Z
LAST-MODIFIED:20231130T130006Z
UID:15232-1703086200-1703091600@bristolavonriverstrust.org
SUMMARY:Lego Workshop - build a river friendly house
DESCRIPTION:This will be an hour and a half workshop where children and their accompanying adult will build a river friendly house from Lego and other materials. Their house will help reduce flooding and sewage overflow by slowing down rain water. Children will test their houses to see how much water they hold back. \nA fun activity for children aged about 5 – 10 years with a really important environmental message. \nBook one place per child attending and children must be accompanied by an adult. Maximum 3 children per adult. \nBook via EventBrite. Places are limited.
URL:https://bristolavonriverstrust.org/event/lego-workshop-build-a-river-friendly-house-2/
LOCATION:Frenchay Village Hall\, Beckspool Rd\, Bristol\, BS16 1NU
ATTACH;FMTTYPE=image/png:https://bristolavonriverstrust.org/wp-content/uploads/2023/11/Lego-workshop-eventbrite-1.png
ORGANIZER;CN="Bristol Avon Rivers Trust":MAILTO:info@bristolavonriverstrust.org
END:VEVENT
END:VCALENDAR