BEGIN:VCALENDAR
VERSION:2.0
PRODID:-//Bristol Avon Rivers Trust - ECPv6.15.19//NONSGML v1.0//EN
CALSCALE:GREGORIAN
METHOD:PUBLISH
X-ORIGINAL-URL:https://bristolavonriverstrust.org
X-WR-CALDESC:Events for Bristol Avon Rivers Trust
REFRESH-INTERVAL;VALUE=DURATION:PT1H
X-Robots-Tag:noindex
X-PUBLISHED-TTL:PT1H
BEGIN:VTIMEZONE
TZID:UTC
BEGIN:STANDARD
TZOFFSETFROM:+0000
TZOFFSETTO:+0000
TZNAME:UTC
DTSTART:20230101T000000
END:STANDARD
END:VTIMEZONE
BEGIN:VEVENT
DTSTART;TZID=UTC:20240214T100000
DTEND;TZID=UTC:20240214T120000
DTSTAMP:20260423T042828
CREATED:20240124T133244Z
LAST-MODIFIED:20240124T134120Z
UID:15616-1707904800-1707912000@bristolavonriverstrust.org
SUMMARY:Half term 'Love Your River' Fun Session\, South Bristol
DESCRIPTION:Join BART and Your Park for a half term river fun session! Come along to Valley Walk\, Hartcliffe in South Bristol for some fun activities and free cake! \nThere will be a river scavenger hunt\, meet the river minibeasts and river art activities with hot drinks\, squash and cake on offer. \nGrown ups can chat to BART staff about their local river and the issues it faces. \nWe would love to see you there! Especially if you live nearby. \nPlease sign up here so we know how much cake to bring!
URL:https://bristolavonriverstrust.org/event/half-term-river-fun-session-hartcliffe/
LOCATION:Valley Walk\, Hartcliffe\, Valley Walk\, Bristol\, BS13 0HB
ATTACH;FMTTYPE=image/png:https://bristolavonriverstrust.org/wp-content/uploads/2024/01/Eventbrite-banner-Lover-your-river-1.png
ORGANIZER;CN="Bristol Avon Rivers Trust":MAILTO:info@bristolavonriverstrust.org
END:VEVENT
END:VCALENDAR