BEGIN:VCALENDAR
VERSION:2.0
PRODID:-//Bristol Avon Rivers Trust - ECPv6.15.19//NONSGML v1.0//EN
CALSCALE:GREGORIAN
METHOD:PUBLISH
X-ORIGINAL-URL:https://bristolavonriverstrust.org
X-WR-CALDESC:Events for Bristol Avon Rivers Trust
REFRESH-INTERVAL;VALUE=DURATION:PT1H
X-Robots-Tag:noindex
X-PUBLISHED-TTL:PT1H
BEGIN:VTIMEZONE
TZID:UTC
BEGIN:STANDARD
TZOFFSETFROM:+0000
TZOFFSETTO:+0000
TZNAME:UTC
DTSTART:20230101T000000
END:STANDARD
END:VTIMEZONE
BEGIN:VEVENT
DTSTART;TZID=UTC:20240829T100000
DTEND;TZID=UTC:20240829T120000
DTSTAMP:20260422T170014
CREATED:20240822T102315Z
LAST-MODIFIED:20240822T104331Z
UID:17021-1724925600-1724932800@bristolavonriverstrust.org
SUMMARY:Manor Woods Valley River Dip
DESCRIPTION:Get to know the local minibeasts that inhabit the River Malago. This August our staff at BART are hosting a little workshop on the many small invertebrates and fish that make their home in our urban streams\, learn about how to identify them and how BART collects and uses data on freshwater invertebrates. \nMeeting at the Southern entrance to Manor Woods. \nFind out more and sign up here.
URL:https://bristolavonriverstrust.org/event/manor-woods-river-dip/
LOCATION:Manor Woods Valley\, Crantock Ave\, Bristol BS13 7QW
ATTACH;FMTTYPE=image/jpeg:https://bristolavonriverstrust.org/wp-content/uploads/2020/05/1C0A6890_preview-e1589902732906.jpeg
ORGANIZER;CN="Bristol Avon Rivers Trust":MAILTO:info@bristolavonriverstrust.org
END:VEVENT
END:VCALENDAR