BEGIN:VCALENDAR
VERSION:2.0
PRODID:-//Bristol Avon Rivers Trust - ECPv6.15.19//NONSGML v1.0//EN
CALSCALE:GREGORIAN
METHOD:PUBLISH
X-ORIGINAL-URL:https://bristolavonriverstrust.org
X-WR-CALDESC:Events for Bristol Avon Rivers Trust
REFRESH-INTERVAL;VALUE=DURATION:PT1H
X-Robots-Tag:noindex
X-PUBLISHED-TTL:PT1H
BEGIN:VTIMEZONE
TZID:UTC
BEGIN:STANDARD
TZOFFSETFROM:+0000
TZOFFSETTO:+0000
TZNAME:UTC
DTSTART:20240101T000000
END:STANDARD
END:VTIMEZONE
BEGIN:VEVENT
DTSTART;VALUE=DATE:20250704
DTEND;VALUE=DATE:20250712
DTSTAMP:20260422T023102
CREATED:20250606T075231Z
LAST-MODIFIED:20250606T085602Z
UID:19280-1751587200-1752278399@bristolavonriverstrust.org
SUMMARY:Bristol Avon RiverBlitz 2025
DESCRIPTION:Get involved with water quality monitoring this July for BART’s annual Bristol Avon RiverBlitz. Now in its tenth year\, samples will be collected across the Bristol Avon catchment to test for nitrates and phosphates. The information collected helps us identify pristine waters\, pinpoint pollution hotspots\, and provide a comprehensive overview of water quality and river health. The data from the previous nine years is on our website\, where BART will add this year’s data: https://bristolavonriverstrust.org/riverblitz. \nBART invite everyone in the Bristol Avon area to participate in sampling their local rivers\, streams\, and ditches. This includes the River Avon and all the rivers and streams that flow into it including the River Chew\, the Bristol Frome\, the Somerset Frome\, the River Trym and many more. \nThe 2025 Bristol Avon RiverBlitz will be taking place from Friday 4th July to Friday 11th July with volunteers taking their samples at their convenience between these dates. To register as a volunteer sign up here: https://bristolavonriverstrust.org/riverblitz/register \nRegistration will close on Saturday 28th June. \nJoin hundreds of other volunteer citizen scientists across the Bristol Avon river catchment as we work together to better understand and protect the health of our rivers!
URL:https://bristolavonriverstrust.org/event/bristol-avon-riverblitz-2025/
LOCATION:Bristol Avon catchment
CATEGORIES:Citizen Science
ATTACH;FMTTYPE=image/jpeg:https://bristolavonriverstrust.org/wp-content/uploads/2025/06/RiverBlitz-2025-poster.jpg
ORGANIZER;CN="Bristol Avon Rivers Trust":MAILTO:info@bristolavonriverstrust.org
END:VEVENT
END:VCALENDAR