BEGIN:VCALENDAR
VERSION:2.0
PRODID:-//Bristol Avon Rivers Trust - ECPv6.15.19//NONSGML v1.0//EN
CALSCALE:GREGORIAN
METHOD:PUBLISH
X-WR-CALNAME:Bristol Avon Rivers Trust
X-ORIGINAL-URL:https://bristolavonriverstrust.org
X-WR-CALDESC:Events for Bristol Avon Rivers Trust
REFRESH-INTERVAL;VALUE=DURATION:PT1H
X-Robots-Tag:noindex
X-PUBLISHED-TTL:PT1H
BEGIN:VTIMEZONE
TZID:UTC
BEGIN:STANDARD
TZOFFSETFROM:+0000
TZOFFSETTO:+0000
TZNAME:UTC
DTSTART:20240101T000000
END:STANDARD
END:VTIMEZONE
BEGIN:VEVENT
DTSTART;TZID=UTC:20250829T100000
DTEND;TZID=UTC:20250829T150000
DTSTAMP:20260422T010814
CREATED:20250818T084243Z
LAST-MODIFIED:20250818T120313Z
UID:19967-1756461600-1756479600@bristolavonriverstrust.org
SUMMARY:Free river-themed fun at Hartcliffe City Farm
DESCRIPTION:We are hosting a stall in the Courtyard at Hartcliffe City Farm\, with a range of free\, fun river-themed activities to families to enjoy. \nVisit the farm between 10:00 and 14:00 to learn about our river restoration work in Manor Woods Valley and Crox Bottom\, whilst searching for river creatures\, painting your own fish keyring\, or operating a Lego sustainable drainage demonstration. \nNo booking required\, just turn up at the farm and find us in the Courtyard.
URL:https://bristolavonriverstrust.org/event/free-river-themed-fun-hartcliffe-city-farm/
LOCATION:Hartcliffe City Farm\, Lampton Avenue\, Bristol\, BS13 0QH\, United Kingdom
ATTACH;FMTTYPE=image/jpeg:https://bristolavonriverstrust.org/wp-content/uploads/2025/08/River-themed-family-fun-at-Hartcliffe-City-Farm.jpg
ORGANIZER;CN="Bristol Avon Rivers Trust":MAILTO:info@bristolavonriverstrust.org
END:VEVENT
END:VCALENDAR