BEGIN:VCALENDAR
VERSION:2.0
PRODID:-//Bristol Avon Rivers Trust - ECPv6.15.19//NONSGML v1.0//EN
CALSCALE:GREGORIAN
METHOD:PUBLISH
X-WR-CALNAME:Bristol Avon Rivers Trust
X-ORIGINAL-URL:https://bristolavonriverstrust.org
X-WR-CALDESC:Events for Bristol Avon Rivers Trust
REFRESH-INTERVAL;VALUE=DURATION:PT1H
X-Robots-Tag:noindex
X-PUBLISHED-TTL:PT1H
BEGIN:VTIMEZONE
TZID:UTC
BEGIN:STANDARD
TZOFFSETFROM:+0000
TZOFFSETTO:+0000
TZNAME:UTC
DTSTART:20250101T000000
END:STANDARD
END:VTIMEZONE
BEGIN:VEVENT
DTSTART;VALUE=DATE:20260107
DTEND;VALUE=DATE:20260123
DTSTAMP:20260421T171016
CREATED:20260112T143327Z
LAST-MODIFIED:20260112T151457Z
UID:21006-1767744000-1769126399@bristolavonriverstrust.org
SUMMARY:River Frome Community Art Exhibition
DESCRIPTION:Come to Bristol Aquarium to celebrate artwork created by artists and community members connected to Bristol’s River Frome. Entry to the exhibition is free and located in the Aquarium foyer.\nPlease note that tickets are required to access the Aquarium itself and are not included as part of this event. \nThis exhibition forms part of a project led by Bristol Avon Rivers Trust\, which aims to connect local communities with their river\, the Bristol River Frome. \nWorking with primary schools and community groups along the Frome\, we delivered river-themed art workshops and educational sessions focused on learning about the river and its environment. We also collaborated with artists based across the Bristol Avon catchment to create a series of sculptures for our Art in the Park event. Come and visit our exhibition and celebrate the artworks on display with us! \n  \nThe exhibition will be open from Wednesday 7th January to Thursday 22nd January.
URL:https://bristolavonriverstrust.org/event/river-frome-community-art-exhibition/
LOCATION:Bristol Aquarium\, Anchor Rd\, Bristol\, BS1 5TT\, United Kingdom
ATTACH;FMTTYPE=image/jpeg:https://bristolavonriverstrust.org/wp-content/uploads/2026/01/20260109_1558224.jpg
ORGANIZER;CN="Bristol Avon Rivers Trust":MAILTO:info@bristolavonriverstrust.org
END:VEVENT
END:VCALENDAR