BEGIN:VCALENDAR
VERSION:2.0
PRODID:-//Bristol Avon Rivers Trust - ECPv6.15.19//NONSGML v1.0//EN
CALSCALE:GREGORIAN
METHOD:PUBLISH
X-WR-CALNAME:Bristol Avon Rivers Trust
X-ORIGINAL-URL:https://bristolavonriverstrust.org
X-WR-CALDESC:Events for Bristol Avon Rivers Trust
REFRESH-INTERVAL;VALUE=DURATION:PT1H
X-Robots-Tag:noindex
X-PUBLISHED-TTL:PT1H
BEGIN:VTIMEZONE
TZID:UTC
BEGIN:STANDARD
TZOFFSETFROM:+0000
TZOFFSETTO:+0000
TZNAME:UTC
DTSTART:20190101T000000
END:STANDARD
END:VTIMEZONE
BEGIN:VEVENT
DTSTART;TZID=UTC:20201121T093000
DTEND;TZID=UTC:20201121T130000
DTSTAMP:20260422T222402
CREATED:20201027T091352Z
LAST-MODIFIED:20201105T084356Z
UID:7349-1605951000-1605963600@bristolavonriverstrust.org
SUMMARY:Volunteer Tree Planting
DESCRIPTION:Bristol Avon Rivers Trust (BART) are seeking volunteers to assist with planting trees near Winford. Over the past several months\, BART has developed a tree planting strategy that will benefit rivers\, streams and wildlife by planting the right trees in the right place. The trees planted for this particular scheme will complement a natural flood management scheme which will help intercept the flow of surface water during rainfall events as well as creating a wonderful wildlife corridor along the valley bottom. Tree planting forms part of BART’s wider project work within the Chew Valley which aims to improve the River Chew and its tributaries for the benefit of people and nature. \nIf you fancy rolling up your sleeves and getting involved with tree planting\, please join BART at 09:30 on Saturday 21st November near Regil\, Winford\, for a socially distanced tree planting day where you can hear more about BART’s work throughout the Chew Valley and wider Bristol Avon. For further details please get in touch with BART’s Senior Project Officer George Clark via george@bristolavonriverstrust.org
URL:https://bristolavonriverstrust.org/event/winford-brook-tree-planting/
LOCATION:Hen Lane NFM scheme\, Regil near Winford\, Somerset\, United Kingdom
ATTACH;FMTTYPE=image/jpeg:https://bristolavonriverstrust.org/wp-content/uploads/2020/03/IMG_20191207_125035-scaled.jpg
END:VEVENT
END:VCALENDAR