BEGIN:VCALENDAR
VERSION:2.0
PRODID:-//Bristol Avon Rivers Trust - ECPv6.15.19//NONSGML v1.0//EN
CALSCALE:GREGORIAN
METHOD:PUBLISH
X-WR-CALNAME:Bristol Avon Rivers Trust
X-ORIGINAL-URL:https://bristolavonriverstrust.org
X-WR-CALDESC:Events for Bristol Avon Rivers Trust
REFRESH-INTERVAL;VALUE=DURATION:PT1H
X-Robots-Tag:noindex
X-PUBLISHED-TTL:PT1H
BEGIN:VTIMEZONE
TZID:UTC
BEGIN:STANDARD
TZOFFSETFROM:+0000
TZOFFSETTO:+0000
TZNAME:UTC
DTSTART:20200101T000000
END:STANDARD
END:VTIMEZONE
BEGIN:VEVENT
DTSTART;VALUE=DATE:20210507
DTEND;VALUE=DATE:20210511
DTSTAMP:20260425T040741
CREATED:20210407T131435Z
LAST-MODIFIED:20210507T092028Z
UID:8885-1620345600-1620691199@bristolavonriverstrust.org
SUMMARY:Land Yeo WaterBlitz
DESCRIPTION:Help BART and Avon Wildlife Trust gain a snapshot of water quality in the Land Yeo catchment. The citizen science event is our first in the catchment and needs river guardians to collect samples from their local watercourse to help monitor the health of our rivers and streams.* \nThe Land Yeo rises on Dundry Hill near Barrow Gurney Reservoirs and flows through various villages to Clevedon where it exits into the Bristol Channel. The target catchment also takes in the Middle Yeo and the network of ditches and rhynes where we would like to collect data on water quality. \nRegister here to receive a free water testing kit which will be sent to your registered address. You can collect your testing kit on Sunday 9th May from Moorend Spout Nature Reserve\, Nailsea. BART will be here from 10am – 2pm where they will demonstrate how to take your water sample and provide further information on the project. If you would like to collect your kit(s) in person please register through the registration page and enter “Moorend Spout\, Nailsea\, BS48 2NN” in the address field. BART will follow up with an email on how to find us. \n*Please stick to government guidelines when collecting your samples. The current guidelines state that “outdoor gatherings of either 6 people (the Rule of 6) or 2 households are allowed.” \nThe map below gives an overview of the target area. Your samples can be take from any of the watercourses within the wider catchment (provided landowner permission has been granted if required) as this will help us gain a snapshot of the catchment. To find out where there are gaps in water quality data please see our WaterBlitz explorer platform. \n 
URL:https://bristolavonriverstrust.org/event/land-yeo-waterblitz/
LOCATION:Moorend Spout Nature Reserve\, Nailsea\, Somerset\, BS48 2NN\, United Kingdom
ATTACH;FMTTYPE=image/jpeg:https://bristolavonriverstrust.org/wp-content/uploads/2020/07/WaterBlitz-1-scaled-e1594207021709.jpg
ORGANIZER;CN="Bristol Avon Rivers Trust":MAILTO:info@bristolavonriverstrust.org
END:VEVENT
END:VCALENDAR