BEGIN:VCALENDAR
VERSION:2.0
PRODID:-//Bristol Avon Rivers Trust - ECPv6.15.19//NONSGML v1.0//EN
CALSCALE:GREGORIAN
METHOD:PUBLISH
X-ORIGINAL-URL:https://bristolavonriverstrust.org
X-WR-CALDESC:Events for Bristol Avon Rivers Trust
REFRESH-INTERVAL;VALUE=DURATION:PT1H
X-Robots-Tag:noindex
X-PUBLISHED-TTL:PT1H
BEGIN:VTIMEZONE
TZID:UTC
BEGIN:STANDARD
TZOFFSETFROM:+0000
TZOFFSETTO:+0000
TZNAME:UTC
DTSTART:20200101T000000
END:STANDARD
END:VTIMEZONE
BEGIN:VEVENT
DTSTART;VALUE=DATE:20210709
DTEND;VALUE=DATE:20210713
DTSTAMP:20260425T005719
CREATED:20210601T124400Z
LAST-MODIFIED:20210608T110946Z
UID:9277-1625788800-1626134399@bristolavonriverstrust.org
SUMMARY:Bristol Avon WaterBlitz 2021
DESCRIPTION:The Bristol Avon WaterBlitz returns this July\, and it’s bigger than ever! BART is encouraging as many citizen scientists as possible to get out to their local watercourse and sample it for water quality to help monitor the health of our rivers and streams. \nPlease sign up here and request the number of kits you require to sample the site or sites you have in mind. We are pleased to be hosting two local events on the River Biss and Bristol Frome! These events give you the opportunity to collect your requested kit in person\, with members of the BART team demonstrating how to take the samples and giving information on what your results mean. Please find details of each event below. \nThank you for taking part and helping us work together for rivers! \n#BAWaterBlitz \nLocal Waterblitz events on Saturday 10th July from 10am to 2pm. \nBristol Frome: Oldbury Court Estate\, Fishponds\, Bristol\, BS16 2JH. This event has been made possible by an award from Postcode Local Trust\, a grant-giving charity funded entirely by players of People’s Postcode Lottery. \nRiver Biss: Biss Meadows Country Park\, Trowbridge\, BA14 7EH. This event is being run in partnership with Wiltshire Wildlife Trust who have supported the event through their ABBA (A Better Biss Approach) project – an exciting 5-year project of practical action\, innovative community and business engagement and high-level strategic planning across the River Biss and its tributaries. \nNew for 2021: The Bristol Avon WaterBlitz Explorer. Check out the data explorer to find out how the health of your local river or stream has changed during the past 5 years of WaterBlitz events.
URL:https://bristolavonriverstrust.org/event/bristol-avon-waterblitz-2021/
ATTACH;FMTTYPE=image/jpeg:https://bristolavonriverstrust.org/wp-content/uploads/2021/06/WaterBlitz-Poster-Image-scaled-e1623150510272.jpg
END:VEVENT
BEGIN:VEVENT
DTSTART;TZID=UTC:20210711T110000
DTEND;TZID=UTC:20210711T140000
DTSTAMP:20260425T005719
CREATED:20210607T075122Z
LAST-MODIFIED:20210607T075153Z
UID:9304-1626001200-1626012000@bristolavonriverstrust.org
SUMMARY:Frome river dip – all welcome
DESCRIPTION:
URL:https://bristolavonriverstrust.org/event/frome-river-dip/
LOCATION:Rodden Meadow\, Frome
ORGANIZER;CN="Bristol Avon Rivers Trust":MAILTO:info@bristolavonriverstrust.org
END:VEVENT
BEGIN:VEVENT
DTSTART;TZID=UTC:20210716T100000
DTEND;TZID=UTC:20210716T133000
DTSTAMP:20260425T005719
CREATED:20210629T080426Z
LAST-MODIFIED:20210629T080426Z
UID:9485-1626429600-1626442200@bristolavonriverstrust.org
SUMMARY:River Clean: Brislington Brook
DESCRIPTION:Join other volunteers to #treasureyourriver this summer and help BART and Sustainable Hive collect 90 tonnes of litter from our rivers.\n\n\n\n\n\n\n\n\nTreasure Your River is preventing river litter across the UK. The rivers at the heart of our cities flow to the sea\, and take with them all the littARRR that is swept\, dropped and drained into it. Did you know 80% of the litter in the sea flows out from river systems? \nWe’re looking for shipmates\, volunteers\, and people in Bristol and around the Avon who treasure their river to get involved. We’re aiming to remove 95 tonnes of litter from our rivers and prevent a further 90 tonnes from entering them in the first place. ARRR you ready to climb aboard and treasure a river near you? \nHead here to register\nPlease dress appropriately (waterproofs\, sun screen etc)\, bring water and hand sanitiser and adhere to COVID rules. Wellies would be helpful too although we can provide waders for those who really want to get stuck in! Gloves\, litter pickers\, bin bags and bag rings will also be provided. \nMeeting information\nMeet the BART team at 10am on the corner of Sturminster Close and Sturminster Road\, BS14 8EH. \n  \n \n 
URL:https://bristolavonriverstrust.org/event/river-clean-brislington-brook/
LOCATION:Brislington Brook
ORGANIZER;CN="Bristol Avon Rivers Trust":MAILTO:info@bristolavonriverstrust.org
END:VEVENT
END:VCALENDAR