BEGIN:VCALENDAR
VERSION:2.0
PRODID:-//Bristol Avon Rivers Trust - ECPv6.15.19//NONSGML v1.0//EN
CALSCALE:GREGORIAN
METHOD:PUBLISH
X-WR-CALNAME:Bristol Avon Rivers Trust
X-ORIGINAL-URL:https://bristolavonriverstrust.org
X-WR-CALDESC:Events for Bristol Avon Rivers Trust
REFRESH-INTERVAL;VALUE=DURATION:PT1H
X-Robots-Tag:noindex
X-PUBLISHED-TTL:PT1H
BEGIN:VTIMEZONE
TZID:UTC
BEGIN:STANDARD
TZOFFSETFROM:+0000
TZOFFSETTO:+0000
TZNAME:UTC
DTSTART:20210101T000000
END:STANDARD
END:VTIMEZONE
BEGIN:VTIMEZONE
TZID:Europe/London
BEGIN:DAYLIGHT
TZOFFSETFROM:+0000
TZOFFSETTO:+0100
TZNAME:BST
DTSTART:20210328T010000
END:DAYLIGHT
BEGIN:STANDARD
TZOFFSETFROM:+0100
TZOFFSETTO:+0000
TZNAME:GMT
DTSTART:20211031T010000
END:STANDARD
BEGIN:DAYLIGHT
TZOFFSETFROM:+0000
TZOFFSETTO:+0100
TZNAME:BST
DTSTART:20220327T010000
END:DAYLIGHT
BEGIN:STANDARD
TZOFFSETFROM:+0100
TZOFFSETTO:+0000
TZNAME:GMT
DTSTART:20221030T010000
END:STANDARD
BEGIN:DAYLIGHT
TZOFFSETFROM:+0000
TZOFFSETTO:+0100
TZNAME:BST
DTSTART:20230326T010000
END:DAYLIGHT
BEGIN:STANDARD
TZOFFSETFROM:+0100
TZOFFSETTO:+0000
TZNAME:GMT
DTSTART:20231029T010000
END:STANDARD
END:VTIMEZONE
BEGIN:VEVENT
DTSTART;TZID=UTC:20221001T100000
DTEND;TZID=UTC:20221001T140000
DTSTAMP:20260424T023550
CREATED:20220915T091429Z
LAST-MODIFIED:20220915T092450Z
UID:11842-1664618400-1664632800@bristolavonriverstrust.org
SUMMARY:River Dipping - Midsomer Norton
DESCRIPTION:Join Bristol Avon Rivers Trust at your local river for a river dipping session. This involves sampling invertebrates and building rafts from natural materials! Become a river detective where you can sample the river and understand more about the water quality along your local river! \nSuitable for children age 5+ \nIf you would like to get involved please contact: molly@bristolavonriverstrust.org
URL:https://bristolavonriverstrust.org/event/river-dipping-midsomer-norton/
LOCATION:Wellow Brook – Midsomer Norton
ATTACH;FMTTYPE=image/jpeg:https://bristolavonriverstrust.org/wp-content/uploads/2022/09/293653710_3088975794747071_3794413130000451396_n-scaled-e1663233836868.jpg
END:VEVENT
BEGIN:VEVENT
DTSTART;VALUE=DATE:20221003
DTEND;VALUE=DATE:20221008
DTSTAMP:20260424T023550
CREATED:20220915T150155Z
LAST-MODIFIED:20220915T150647Z
UID:11856-1664755200-1665187199@bristolavonriverstrust.org
SUMMARY:Stoke Brook River Restoration
DESCRIPTION:Join BART to improve in-river habitat for Stoke Brook within the Bristol Frome catchment. We are looking for volunteers to join us. \n\n\nMeeting location 9:30am:Bradley Stoke Leisure Centre\, Fiddlers Wood Ln\, Bradley Stoke\, Bristol\, BS32 9BS \n\nFinish about 3:30pm. \n\nThis task involves lifting tree branches and large woody debris\, whilst wading through the river to create brushwood berm features. \nPlease bring: \n\nWellies – waders preferred as the river will be deep in places.\nAppropriate clothing for the weather\, e.g coat\nFood and water for the day\nGloves\nHand sanitiser\n\nMaterials and tools will be provided. \nPlease note children aged 16 and under are not covered by our insurance and this task may not be suitable/ safe for them to attend. \nFor any questions please email Rozy: rozy@bristolavonriverstrust.org \n\n\n\n\nWhat is a brushwood berm? \nAs shown above\, the structures are constructed using natural materials; by coppicing trees on the riverbanks and securing limbs into the riverbed at the correct angle into the flow. The space behind the tree limb extending into the channel and the riverbank is packed with brushwood and secured in place. These structures help to re-meander the profile of the river and provide a diverse range of habitat. Over time\, the structures will accumulate sediment and eventually vegetate to become part of the riverbank. \n\nSign up through the Eventbrite website: \nhttps://www.eventbrite.co.uk/e/bristol-frome-habitat-improvement-tickets-414590640767
URL:https://bristolavonriverstrust.org/event/stoke-brook-river-restoration/
LOCATION:Bradley Stoke Leisure Centre\, BS32 9BS
ATTACH;FMTTYPE=image/jpeg:https://bristolavonriverstrust.org/wp-content/uploads/2022/09/PXL_20211028_123743693-scaled-e1663254078555.jpg
END:VEVENT
BEGIN:VEVENT
DTSTART;TZID=UTC:20221022T100000
DTEND;TZID=UTC:20221022T140000
DTSTAMP:20260424T023550
CREATED:20220915T092904Z
LAST-MODIFIED:20220915T155127Z
UID:11845-1666432800-1666447200@bristolavonriverstrust.org
SUMMARY:River Dipping - Norton St Philip
DESCRIPTION:Join Bristol Avon Rivers Trust (BART) at your local river for a river dipping session. This involves sampling invertebrates and building rafts from natural materials! Become a river detective where you can sample the river and understand more about the water quality along your local river! \nSuitable for children age 5+ \nIf you would like to get involved\, please contact molly@bristolavonriverstrust.org
URL:https://bristolavonriverstrust.org/event/river-dipping-norton-st-philip/
LOCATION:Norton St Philip\, Scouts Hut
ATTACH;FMTTYPE=image/jpeg:https://bristolavonriverstrust.org/wp-content/uploads/2022/09/293653710_3088975794747071_3794413130000451396_n-scaled-e1663233836868.jpg
END:VEVENT
BEGIN:VEVENT
DTSTART;VALUE=DATE:20221024
DTEND;VALUE=DATE:20221029
DTSTAMP:20260424T023550
CREATED:20220915T150214Z
LAST-MODIFIED:20220915T150349Z
UID:11865-1666569600-1667001599@bristolavonriverstrust.org
SUMMARY:Stoke Brook River Restoration week 2
DESCRIPTION:Join BART to improve in-river habitat for Stoke Brook within the Bristol Frome catchment. We are looking for volunteers to join us. \n\n\nMeeting location 9:30am:Bradley Stoke Leisure Centre\, Fiddlers Wood Ln\, Bradley Stoke\, Bristol\, BS32 9BS \n\nFinishing about 3:30pm. \n\nThis task involves lifting tree branches and large woody debris\, whilst wading through the river to create brushwood berm features. \nPlease bring: \n\nWellies – waders preferred as the river will be deep in places.\nAppropriate clothing for the weather\, e.g coat\nFood and water for the day\nGloves\nHand sanitiser\n\nMaterials and tools will be provided. \nPlease note children aged 16 and under are not covered by our insurance and this task may not be suitable/ safe for them to attend. \nFor any questions please email Rozy: rozy@bristolavonriverstrust.org \n\n\n\n\nWhat is a brushwood berm? \nAs shown above\, the structures are constructed using natural materials; by coppicing trees on the riverbanks and securing limbs into the riverbed at the correct angle into the flow. The space behind the tree limb extending into the channel and the riverbank is packed with brushwood and secured in place. These structures help to re-meander the profile of the river and provide a diverse range of habitat. Over time\, the structures will accumulate sediment and eventually vegetate to become part of the riverbank. \n\nSign up through the Eventbrite website: \nhttps://www.eventbrite.co.uk/e/bristol-frome-habitat-improvement-tickets-414590640767
URL:https://bristolavonriverstrust.org/event/stoke-brook-river-restoration-wk-2/
LOCATION:Bradley Stoke Leisure Centre\, BS32 9BS
ATTACH;FMTTYPE=image/jpeg:https://bristolavonriverstrust.org/wp-content/uploads/2022/09/PXL_20211028_123743693-scaled-e1663254078555.jpg
END:VEVENT
END:VCALENDAR