BEGIN:VCALENDAR
VERSION:2.0
PRODID:-//Bristol Avon Rivers Trust - ECPv6.15.19//NONSGML v1.0//EN
CALSCALE:GREGORIAN
METHOD:PUBLISH
X-WR-CALNAME:Bristol Avon Rivers Trust
X-ORIGINAL-URL:https://bristolavonriverstrust.org
X-WR-CALDESC:Events for Bristol Avon Rivers Trust
REFRESH-INTERVAL;VALUE=DURATION:PT1H
X-Robots-Tag:noindex
X-PUBLISHED-TTL:PT1H
BEGIN:VTIMEZONE
TZID:UTC
BEGIN:STANDARD
TZOFFSETFROM:+0000
TZOFFSETTO:+0000
TZNAME:UTC
DTSTART:20220101T000000
END:STANDARD
END:VTIMEZONE
BEGIN:VEVENT
DTSTART;VALUE=DATE:20230707
DTEND;VALUE=DATE:20230715
DTSTAMP:20260423T124753
CREATED:20230607T105607Z
LAST-MODIFIED:20230705T141712Z
UID:13749-1688688000-1689379199@bristolavonriverstrust.org
SUMMARY:RiverBlitz - Be a citizen scientist!
DESCRIPTION:The Bristol Avon RiverBlitz (July 7th -14th) is a citizen science event where as many volunteers as possible sign up and collect water quality data. Volunteers collect phosphate and nitrate samples from a river or stream of their choice in the Bristol Avon catchment. BART then use the data to assess the health of our rivers and to inform our work to improve rivers for people and wildlife. \nAnyone can join in! You can pick up a kit at one of our in-person events. \n**Limited number of kits available – comer early to get one** \nOnce you have your kit\, you need to sample a stream or river between July 7th – 14th and upload your data onto BART’s online tool. \nThe more people who get involved\, the more data we collect! \nREGISTRATION IS NOW CLOSED BUT SOME KITS WILL BE AVAILABLE ON A FIRST COME\, FIRST SERVED BASIS. Come early not to be disappointed!
URL:https://bristolavonriverstrust.org/event/riverblitz/
LOCATION:Bristol Avon catchment
ATTACH;FMTTYPE=image/png:https://bristolavonriverstrust.org/wp-content/uploads/2022/07/Untitled-design-95.png
ORGANIZER;CN="Bristol Avon Rivers Trust":MAILTO:info@bristolavonriverstrust.org
END:VEVENT
BEGIN:VEVENT
DTSTART;TZID=UTC:20230708T100000
DTEND;TZID=UTC:20230708T140000
DTSTAMP:20260423T124753
CREATED:20230607T103555Z
LAST-MODIFIED:20230705T141521Z
UID:13736-1688810400-1688824800@bristolavonriverstrust.org
SUMMARY:RiverBlitz Event - Land Yeo\, Watercress Farm
DESCRIPTION:Come and join the Bristol Avon Rivers Trust team and Avon Wildlife Trust at our Bristol Avon RiverBlitz event for the Land Yeo at Watercress Farm near Tyntsfield. \nThe Bristol Avon RiverBlitz (July 7th -14th) is a citizen science event where as many volunteers as possible sign up and collect water quality data. You can come to one of four in-person events\, including this one at Watercress Farm\, and pick up your kit. Once you have collected your samples in a stream or river of your choice in the Bristol Avon catchment\, you will upload your data using BART’s online tool. \nAt the in-person events\, you will be able to chat to the team and we can guide you through the sampling process. \nWe will be at Watercress Farm with our stall and our water testing kits. We would love to see you there! \nOnce you have turned into Watercress Farm\, keep following the track until you see RiverBlitz signs. \nThe site is lovely\, you might see the resident free-ranging cows and pigs and you can have a look at the awesome\, large scale river restoration work going on there. \nGuided walk of Watercress Farm 11am: Avon Wildlife Trust will be hosting a guided walk around the farm to show visitors features of the river and also the awesome river restoration work going on there. The river is being re-routed to take a more natural meandering route which will give a huge boost to biodiversity. See the project in it’s early stages. \n  \nREGISTRATION IS NOW CLOSED BUT SOME KITS WILL BE AVAILABLE ON A FIRST COME\, FIRST SERVED BASIS. Come early not to be disappointed! \n  \n \n  \n 
URL:https://bristolavonriverstrust.org/event/riverblitz-land-yeo/
LOCATION:Watercress Farm\, Wraxall\, Near Tyntsfield\, BS48 1NE
ATTACH;FMTTYPE=image/jpeg:https://bristolavonriverstrust.org/wp-content/uploads/2023/06/IMG-20220801-WA0013.jpg
ORGANIZER;CN="Bristol Avon Rivers Trust":MAILTO:info@bristolavonriverstrust.org
END:VEVENT
BEGIN:VEVENT
DTSTART;TZID=UTC:20230708T100000
DTEND;TZID=UTC:20230708T140000
DTSTAMP:20260423T124753
CREATED:20230607T105147Z
LAST-MODIFIED:20230705T141444Z
UID:13746-1688810400-1688824800@bristolavonriverstrust.org
SUMMARY:RiverBlitz Event - River Chew\, Keynsham
DESCRIPTION:Come and join the Bristol Avon Rivers Trust team at our Bristol Avon RiverBlitz event on the River Chew in Keynsham Memorial Park! \nThe Bristol Avon RiverBlitz (July 7th -14th) is a citizen science event where as many volunteers as possible sign up and collect water quality data. You can come to one of four in-person events\, including this one ain Keynsham\, and pick up your kit. Once you have collected your samples in a stream or river of your choice in the Bristol Avon catchment\, you will upload your data using BART’s online tool. \nAt the in-person events\, you will be able to chat to the team and we can guide you through the sampling process. \nWe will be in Keynsham Memorial Park with our stall and our water testing kits. We would love to see you there! \nREGISTRATION IS NOW CLOSED BUT SOME KITS WILL BE AVAILABLE ON A FIRST COME\, FIRST SERVED BASIS. Come early not to be disappointed!
URL:https://bristolavonriverstrust.org/event/riverbiltz-keynsham/
LOCATION:Keynsham Memorial Park\, Keynsham Memorial Park\, Keynsham\, BS31 1HL
ATTACH;FMTTYPE=image/jpeg:https://bristolavonriverstrust.org/wp-content/uploads/2023/06/IMG-20220801-WA0013.jpg
ORGANIZER;CN="Bristol Avon Rivers Trust":MAILTO:info@bristolavonriverstrust.org
END:VEVENT
BEGIN:VEVENT
DTSTART;TZID=UTC:20230709T100000
DTEND;TZID=UTC:20230709T140000
DTSTAMP:20260423T124753
CREATED:20230607T104331Z
LAST-MODIFIED:20230705T141418Z
UID:13739-1688896800-1688911200@bristolavonriverstrust.org
SUMMARY:RiverBlitz Event -  River Biss\, Trowbridge
DESCRIPTION:Come and join the Bristol Avon Rivers Trust team at our Bristol Avon RiverBlitz event on the River Biss in Trowbridge Park Pond! \nThe Bristol Avon RiverBlitz (July 7th -14th) is a citizen science event where as many volunteers as possible sign up and collect water quality data. You can come to one of four in-person events\, including this one at Trowbridge Park Pond\, and pick up a kit. Once you have collected your samples in a stream or river of your choice in the Bristol Avon catchment\, you will upload your data using BART’s online tool. \nAt the in-person events\, you will be able to chat to the team and we can guide you through the sampling process. \nWe will be at Trowbridge Park Pond with our stall and our water testing kits. We would love to see you there! \nREGISTRATION IS NOW CLOSED BUT SOME KITS WILL BE AVAILABLE ON A FIRST COME\, FIRST SERVED BASIS. Come early not to be disappointed!
URL:https://bristolavonriverstrust.org/event/riverblitz-trowbridge/
LOCATION:Trowbridge Park Pond\, Trowbridge Park\, Trowbridge\, BA14 7EH
ATTACH;FMTTYPE=image/jpeg:https://bristolavonriverstrust.org/wp-content/uploads/2023/06/IMG-20220801-WA0013.jpg
ORGANIZER;CN="Bristol Avon Rivers Trust":MAILTO:info@bristolavonriverstrust.org
END:VEVENT
BEGIN:VEVENT
DTSTART;TZID=UTC:20230709T100000
DTEND;TZID=UTC:20230709T140000
DTSTAMP:20260423T124753
CREATED:20230613T162643Z
LAST-MODIFIED:20230705T141333Z
UID:13730-1688896800-1688911200@bristolavonriverstrust.org
SUMMARY:RiverBlitz Event - Midsomer Norton
DESCRIPTION:Come and join the Bristol Avon Rivers Trust team at our Bristol Avon RiverBlitz event for the Cam and Wellow Brooks in Midsomer Norton! \nThe Bristol Avon RiverBlitz (July 7th -14th) is a citizen science event where as many volunteers as possible sign up and collect water quality data. You can come to one of four in-person events\, including this one at Midsomer Norton\, and pick up a kit. Once you have collected your samples in a stream or river of your choice in the Bristol Avon catchment\, you will upload your data using BART’s online tool. \nAt the in-person events\, you will be able to chat to the team and we can guide you through the sampling process. \nWe will be in Midsomer Norton Town Park with our stall and our water testing kits. We would love to see you there! \nREGISTRATION IS NOW CLOSED BUT SOME KITS WILL BE AVAILABLE ON A FIRST COME\, FIRST SERVED BASIS. Come early not to be disappointed! \n 
URL:https://bristolavonriverstrust.org/event/riverblitz-event-midsomer-norton/
LOCATION:Midsomer Norton Park\, Midsomer Norton Park\, BA3 2UH
ATTACH;FMTTYPE=image/jpeg:https://bristolavonriverstrust.org/wp-content/uploads/2023/06/IMG-20220801-WA0013.jpg
ORGANIZER;CN="Bristol Avon Rivers Trust":MAILTO:info@bristolavonriverstrust.org
END:VEVENT
BEGIN:VEVENT
DTSTART;TZID=UTC:20230718T193000
DTEND;TZID=UTC:20230718T210000
DTSTAMP:20260423T124753
CREATED:20230712T091943Z
LAST-MODIFIED:20230712T091943Z
UID:14082-1689708600-1689714000@bristolavonriverstrust.org
SUMMARY:Saving Water for River Wildlife - a talk and discussion
DESCRIPTION:BART are hosting a talk and discussion about the future of our water supply\, what the issues mean for river wildlife and what we can all do to help. Come and find out how the pressures of climate change and increased population are predicted to impact our water resources\, how the inevitable low river levels affects various freshwater species and what action can be taken to strengthen our water resilience. Discussion about the best steps to take will be very much encouraged! \n  \nAll welcome!
URL:https://bristolavonriverstrust.org/event/saving-water-for-river-wildlife/
LOCATION:Old School Rooms\, Chew Magna\, BS40 8SH
ATTACH;FMTTYPE=image/jpeg:https://bristolavonriverstrust.org/wp-content/uploads/2023/07/Chew-valley-lake-in-drought-scaled.jpg
ORGANIZER;CN="Bristol Avon Rivers Trust":MAILTO:info@bristolavonriverstrust.org
END:VEVENT
BEGIN:VEVENT
DTSTART;TZID=UTC:20230722T100000
DTEND;TZID=UTC:20230722T140000
DTSTAMP:20260423T124753
CREATED:20230712T085120Z
LAST-MODIFIED:20230712T085324Z
UID:14069-1690020000-1690034400@bristolavonriverstrust.org
SUMMARY:Yellow Fish Event - Chippenham
DESCRIPTION:Help your local river by painting yellow fish!! \nJoin BART for one of our Yellow Fish events. \nYou will paint yellow fish next to surface drains to raise awareness that ONLY RAIN SHOULD GO DOWN THE DRAIN! \nThese drains often lead straight to a river or stream and is not treated. Whatever is poured down the drain can end up straight in the river. This can be damaging to the river ecosystem. \nCome and paint yellow fish in Chippenham! \nIf you would like to take part please sign up via Eventbrite
URL:https://bristolavonriverstrust.org/event/yellow-fish-event-chippenham/
LOCATION:Riverside Drive Chippenham\, Riverside Drive\, Chippenham\, SN15\, United Kingdom
ATTACH;FMTTYPE=image/jpeg:https://bristolavonriverstrust.org/wp-content/uploads/2022/06/IMG-20220613-WA0000.jpg
ORGANIZER;CN="Bristol Avon Rivers Trust":MAILTO:info@bristolavonriverstrust.org
END:VEVENT
BEGIN:VEVENT
DTSTART;TZID=UTC:20230725T100000
DTEND;TZID=UTC:20230725T140000
DTSTAMP:20260423T124753
CREATED:20230712T085218Z
LAST-MODIFIED:20230712T090033Z
UID:14075-1690279200-1690293600@bristolavonriverstrust.org
SUMMARY:River Dipping - Chew Magna
DESCRIPTION:Bristol Avon Rivers Trust (BART) is running a river dipping session for local community groups\, residents\, families and friends. Come along to gain a better understanding of your local waterway and the true delights it has to offer! \nThe session involves sampling and identifying invertebrates in the local watercourse\, as well as mini-raft building from all natural materials. The session is finished off by racing the creatively built rafts down the river! \nThis is a drop in session that is running from 10:00am until 2:00pm\, so feel free to stay as long as you would like! \nWellies are required\, but nets and river dipping equipment will be provided! \nPlease sign up via Eventbrite and you will be kept up to date on the location. \nSuitable for children age 5+
URL:https://bristolavonriverstrust.org/event/river-dipping-chew-magna/
LOCATION:Chew Magna
ATTACH;FMTTYPE=image/jpeg:https://bristolavonriverstrust.org/wp-content/uploads/2022/09/293653710_3088975794747071_3794413130000451396_n-scaled-e1663233836868.jpg
ORGANIZER;CN="Bristol Avon Rivers Trust":MAILTO:info@bristolavonriverstrust.org
END:VEVENT
END:VCALENDAR