BEGIN:VCALENDAR
VERSION:2.0
PRODID:-//Bristol Avon Rivers Trust - ECPv6.15.19//NONSGML v1.0//EN
CALSCALE:GREGORIAN
METHOD:PUBLISH
X-WR-CALNAME:Bristol Avon Rivers Trust
X-ORIGINAL-URL:https://bristolavonriverstrust.org
X-WR-CALDESC:Events for Bristol Avon Rivers Trust
REFRESH-INTERVAL;VALUE=DURATION:PT1H
X-Robots-Tag:noindex
X-PUBLISHED-TTL:PT1H
BEGIN:VTIMEZONE
TZID:UTC
BEGIN:STANDARD
TZOFFSETFROM:+0000
TZOFFSETTO:+0000
TZNAME:UTC
DTSTART:20230101T000000
END:STANDARD
END:VTIMEZONE
BEGIN:VEVENT
DTSTART;TZID=UTC:20240718T190000
DTEND;TZID=UTC:20240718T200000
DTSTAMP:20260422T183314
CREATED:20240619T153438Z
LAST-MODIFIED:20240619T154921Z
UID:16638-1721329200-1721332800@bristolavonriverstrust.org
SUMMARY:River Detectives Workshop - River Trym\, Bristol
DESCRIPTION:Many of our rivers across the Avon catchment are in poor ecological condition. With the help of water quality data collected by our team of River Detective volunteers\, we are able to monitor their condition\, helping us to focus our river restoration projects on the areas that need it most. \nBristol Avon Rivers Trust (BART) are running a free training workshop at 7:00pm on Thurs 18 July on the River Trym at Coombe Dingle. During the workshop\, volunteers will be shown by members of the BART team how to collect water samples taken from the river and be given their own water quality testing kit to take home and use as part of our on-going River Detectives volunteer program. \nParticipants are welcomed from all backgrounds\, with no previous experience of volunteering\, or river monitoring being required. \nRiver Detectives is BART’s leading citizen science project and involves volunteers across local communities conducting long-term water quality monitoring of key sections of our local rivers. At present\, we especially need more River Detective volunteers to monitor areas of the River Trym and Hazel Brook. More can be found out about River Detectives project here. \nIf you would like to attend the training evening at 7:00pm on 18 July\, please sign up here. \nIf you have any questions\, or are interested in becoming a River Detective but cannot make the workshop\, please contact Dan\, and we may be able to make alternative arrangements. \n 
URL:https://bristolavonriverstrust.org/event/river-detectives-workshop-trym-bristol/
LOCATION:Coombe Dingle\, BS9 2RG
ATTACH;FMTTYPE=image/jpeg:https://bristolavonriverstrust.org/wp-content/uploads/2022/11/Picture3-3.jpg
ORGANIZER;CN="Bristol Avon Rivers Trust":MAILTO:info@bristolavonriverstrust.org
END:VEVENT
END:VCALENDAR