BEGIN:VCALENDAR
VERSION:2.0
PRODID:-//Bristol Avon Rivers Trust - ECPv6.15.19//NONSGML v1.0//EN
CALSCALE:GREGORIAN
METHOD:PUBLISH
X-ORIGINAL-URL:https://bristolavonriverstrust.org
X-WR-CALDESC:Events for Bristol Avon Rivers Trust
REFRESH-INTERVAL;VALUE=DURATION:PT1H
X-Robots-Tag:noindex
X-PUBLISHED-TTL:PT1H
BEGIN:VTIMEZONE
TZID:UTC
BEGIN:STANDARD
TZOFFSETFROM:+0000
TZOFFSETTO:+0000
TZNAME:UTC
DTSTART:20230101T000000
END:STANDARD
END:VTIMEZONE
BEGIN:VEVENT
DTSTART;TZID=UTC:20240808T160000
DTEND;TZID=UTC:20240808T180000
DTSTAMP:20260422T170106
CREATED:20240724T142251Z
LAST-MODIFIED:20240724T142251Z
UID:16824-1723132800-1723140000@bristolavonriverstrust.org
SUMMARY:Flood Watch Training Workshop
DESCRIPTION:Calling all citizen scientists! Fancy surveying your local green space for flooding and it’s contributing factors? Then maybe you should become a Flood Watcher! Join Bristol Avon Rivers Trust and Somer Valley Reconnected for an introductory training workshop on the new River Detectives – Flood Watch programme. The event runs from 4-6pm on Thursday 8th of August. Sign up through this EventBrite link. \n 
URL:https://bristolavonriverstrust.org/event/flood-watch-training-workshop/
LOCATION:Midsomer Norton\, 14 South Road\, Midsomer Norton\, BA3 2EZ
ATTACH;FMTTYPE=image/png:https://bristolavonriverstrust.org/wp-content/uploads/2024/07/River-Detectives-Flood-Watch-08.08.png
ORGANIZER;CN="Bristol Avon Rivers Trust":MAILTO:info@bristolavonriverstrust.org
END:VEVENT
BEGIN:VEVENT
DTSTART;TZID=UTC:20240829T100000
DTEND;TZID=UTC:20240829T120000
DTSTAMP:20260422T170106
CREATED:20240822T102315Z
LAST-MODIFIED:20240822T104331Z
UID:17021-1724925600-1724932800@bristolavonriverstrust.org
SUMMARY:Manor Woods Valley River Dip
DESCRIPTION:Get to know the local minibeasts that inhabit the River Malago. This August our staff at BART are hosting a little workshop on the many small invertebrates and fish that make their home in our urban streams\, learn about how to identify them and how BART collects and uses data on freshwater invertebrates. \nMeeting at the Southern entrance to Manor Woods. \nFind out more and sign up here.
URL:https://bristolavonriverstrust.org/event/manor-woods-river-dip/
LOCATION:Manor Woods Valley\, Crantock Ave\, Bristol BS13 7QW
ATTACH;FMTTYPE=image/jpeg:https://bristolavonriverstrust.org/wp-content/uploads/2020/05/1C0A6890_preview-e1589902732906.jpeg
ORGANIZER;CN="Bristol Avon Rivers Trust":MAILTO:info@bristolavonriverstrust.org
END:VEVENT
BEGIN:VEVENT
DTSTART;TZID=UTC:20240830T100000
DTEND;TZID=UTC:20240830T120000
DTSTAMP:20260422T170106
CREATED:20240806T160531Z
LAST-MODIFIED:20240807T204920Z
UID:16890-1725012000-1725019200@bristolavonriverstrust.org
SUMMARY:Nightingale Valley River Dip
DESCRIPTION:Get to know the local minibeasts that inhabit the Brislington Brook. This August our staff at BART are hosting a little workshop on the many small invertebrates and fish that make their home in our urban streams\, learn about how to identify them and how BART collects and uses data on freshwater invertebrates. \nFind out more and sign up here.
URL:https://bristolavonriverstrust.org/event/nightingale-valley-river-dip/
LOCATION:Nightingale Valley\, 3 Woodcroft Close\, BS4 4QP
ATTACH;FMTTYPE=image/png:https://bristolavonriverstrust.org/wp-content/uploads/2024/08/Nightingale-Vally-River-Dip.png
ORGANIZER;CN="Bristol Avon Rivers Trust":MAILTO:info@bristolavonriverstrust.org
END:VEVENT
END:VCALENDAR