BEGIN:VCALENDAR
VERSION:2.0
PRODID:-//Bristol Avon Rivers Trust - ECPv6.15.19//NONSGML v1.0//EN
CALSCALE:GREGORIAN
METHOD:PUBLISH
X-ORIGINAL-URL:https://bristolavonriverstrust.org
X-WR-CALDESC:Events for Bristol Avon Rivers Trust
REFRESH-INTERVAL;VALUE=DURATION:PT1H
X-Robots-Tag:noindex
X-PUBLISHED-TTL:PT1H
BEGIN:VTIMEZONE
TZID:UTC
BEGIN:STANDARD
TZOFFSETFROM:+0000
TZOFFSETTO:+0000
TZNAME:UTC
DTSTART:20240101T000000
END:STANDARD
END:VTIMEZONE
BEGIN:VEVENT
DTSTART;VALUE=DATE:20250607
DTEND;VALUE=DATE:20250616
DTSTAMP:20260422T023117
CREATED:20250602T101901Z
LAST-MODIFIED:20250606T100117Z
UID:19187-1749254400-1750031999@bristolavonriverstrust.org
SUMMARY:Secret River Trail
DESCRIPTION:Go here for a printable map of the Secret River Trail \nGo here for the online map of the Secret River Trail \n  \n  \nDid you know there’s a river underneath Bristol? Walk the route of the Bristol Frome as it winds beneath the centre of Bristol. \nStarting at Bristol’s Floating Harbour\, follow the colourful painted fish to find the river exposed a mile later at Riverside Park. Complete the trail using the online guide or print out a paper copy. \nIf you complete the trail on the afternoon of Sunday 8th June\, you will find River Art in the Park at the end of your journey. \nFind out more about the River Frome underground in Bristol here.
URL:https://bristolavonriverstrust.org/event/secret-river-trail/
LOCATION:Cascade Steps\, Bristol Harbourside
ATTACH;FMTTYPE=image/png:https://bristolavonriverstrust.org/wp-content/uploads/2025/05/Secret-River-Trail.png
ORGANIZER;CN="Bristol Avon Rivers Trust":MAILTO:info@bristolavonriverstrust.org
END:VEVENT
BEGIN:VEVENT
DTSTART;TZID=UTC:20250608T140000
DTEND;TZID=UTC:20250608T170000
DTSTAMP:20260422T023117
CREATED:20250519T093717Z
LAST-MODIFIED:20250519T093717Z
UID:19093-1749391200-1749402000@bristolavonriverstrust.org
SUMMARY:River Art in the Park
DESCRIPTION:Come to Riverside Park on Sunday the 8th June to enjoy a collection of river themed sculptures on display in this beautiful city centre park. The River Frome flows alongside Riverside Park in St Judes a short walk from the bustling Cabot Circus shopping centre. Sculptures made by local artists and school children will be placed amongst the trees for people to enjoy as part of the annual Festival of Nature. BART will be there with a stall so you can also come and chat to BART staff about the rivers and what we are doing to boost their health. \nYou could start at the Floating Harbour in front of Bristol Hippodrome and follow the Secret River Trail to make your way to the park.
URL:https://bristolavonriverstrust.org/event/river-art-in-the-park/
LOCATION:Riverside Park\, Wellington Road\, Bristol\, BS2 9ES
ATTACH;FMTTYPE=image/jpeg:https://bristolavonriverstrust.org/wp-content/uploads/2025/05/Art-in-the-Park.jpg
ORGANIZER;CN="Bristol Avon Rivers Trust":MAILTO:info@bristolavonriverstrust.org
END:VEVENT
END:VCALENDAR