BEGIN:VCALENDAR
VERSION:2.0
PRODID:-//Bristol Avon Rivers Trust - ECPv6.15.19//NONSGML v1.0//EN
CALSCALE:GREGORIAN
METHOD:PUBLISH
X-ORIGINAL-URL:https://bristolavonriverstrust.org
X-WR-CALDESC:Events for Bristol Avon Rivers Trust
REFRESH-INTERVAL;VALUE=DURATION:PT1H
X-Robots-Tag:noindex
X-PUBLISHED-TTL:PT1H
BEGIN:VTIMEZONE
TZID:UTC
BEGIN:STANDARD
TZOFFSETFROM:+0000
TZOFFSETTO:+0000
TZNAME:UTC
DTSTART:20240101T000000
END:STANDARD
END:VTIMEZONE
BEGIN:VEVENT
DTSTART;TZID=UTC:20251025T130000
DTEND;TZID=UTC:20251025T150000
DTSTAMP:20260421T203353
CREATED:20250922T115614Z
LAST-MODIFIED:20250926T091130Z
UID:20260-1761397200-1761404400@bristolavonriverstrust.org
SUMMARY:40 Acres River Clean - Stoke Gifford
DESCRIPTION:Join Bristol Avon Rivers Trust and Stoke Gifford Parish Council for a community river litter pick in 40 Acres Nature Reserve. \nEveryone welcome! Go to our eventbrite page to get your tickets. \nMeet by the main entrance to 40 Acres\, opposite Meade Park car park (BS34 8NF).
URL:https://bristolavonriverstrust.org/event/40-acres-river-clean-stoke-gifford/
LOCATION:40 Acres\, Stoke Gifford\, Forty Acres Nature Reserve\, BS34 8PZ
ATTACH;FMTTYPE=image/jpeg:https://bristolavonriverstrust.org/wp-content/uploads/2025/09/40-Acres-River-Clean.jpg
ORGANIZER;CN="Bristol Avon Rivers Trust":MAILTO:info@bristolavonriverstrust.org
END:VEVENT
BEGIN:VEVENT
DTSTART;TZID=UTC:20251028T100000
DTEND;TZID=UTC:20251028T120000
DTSTAMP:20260421T203353
CREATED:20250926T091639Z
LAST-MODIFIED:20250926T092059Z
UID:20315-1761645600-1761652800@bristolavonriverstrust.org
SUMMARY:River Frome Family Day
DESCRIPTION:Join Bristol Avon Rivers Trust and Frampton Cotterell Parish Council for a family event by the Frome including: \n\nRiver dipping for invertebrates\nRiver-based craft activities\nRiver wildlife tracks trail\n10% off at Magnolia Mews Bakehouse\n\nMeet at Black Rocks\, accessed via Mill Lane in Frampton Cotterell. \n1 ticket per child. Accompanying adults do not need a ticket.
URL:https://bristolavonriverstrust.org/event/river-frome-family-day/
LOCATION:Black Rocks\, Frampton Cotterell\, Black Rocks\, Frampton Cotterell\, Bristol\, BS362AA
ATTACH;FMTTYPE=image/jpeg:https://bristolavonriverstrust.org/wp-content/uploads/2025/09/October-Half-Term-Black-Rocks-Event-1.jpg
ORGANIZER;CN="Bristol Avon Rivers Trust":MAILTO:info@bristolavonriverstrust.org
END:VEVENT
END:VCALENDAR